BEGIN:VCALENDAR
VERSION:2.0
PRODID:-//Mountain - ECPv6.15.20//NONSGML v1.0//EN
CALSCALE:GREGORIAN
METHOD:PUBLISH
X-WR-CALNAME:Mountain
X-ORIGINAL-URL:https://kesbangpol.balikpapan.go.id
X-WR-CALDESC:Events for Mountain
REFRESH-INTERVAL;VALUE=DURATION:PT1H
X-Robots-Tag:noindex
X-PUBLISHED-TTL:PT1H
BEGIN:VTIMEZONE
TZID:Asia/Shanghai
BEGIN:STANDARD
TZOFFSETFROM:+0800
TZOFFSETTO:+0800
TZNAME:CST
DTSTART:20220101T000000
END:STANDARD
END:VTIMEZONE
BEGIN:VEVENT
DTSTART;TZID=Asia/Shanghai:20240707T080000
DTEND;TZID=Asia/Shanghai:20240707T120000
DTSTAMP:20260426T012409
CREATED:20240807T000011Z
LAST-MODIFIED:20240807T000011Z
UID:2261-1720339200-1720353600@kesbangpol.balikpapan.go.id
SUMMARY:Kegiatan dalam rangka memperingati Hari Anti Narkoba Internasional dan Hari Tahun Baru Islam 1 Muharram 1446 Hijriyah.
DESCRIPTION:
URL:https://kesbangpol.balikpapan.go.id/event/kegiatan-dalam-rangka-memperingati-hari-anti-narkoba-internasional-dan-hari-tahun-baru-islam-1-muharram-1446-hijriyah/
END:VEVENT
BEGIN:VEVENT
DTSTART;TZID=Asia/Shanghai:20240625T080000
DTEND;TZID=Asia/Shanghai:20240625T120000
DTSTAMP:20260426T012409
CREATED:20240806T235857Z
LAST-MODIFIED:20240806T235857Z
UID:2259-1719302400-1719316800@kesbangpol.balikpapan.go.id
SUMMARY:Sosialiasi dan Diseminasi Pembinaan Kesadaran Bela Negara pada Lingkup Pekerjaan
DESCRIPTION:
URL:https://kesbangpol.balikpapan.go.id/event/sosialiasi-dan-diseminasi-pembinaan-kesadaran-bela-negara-pada-lingkup-pekerjaan/
END:VEVENT
BEGIN:VEVENT
DTSTART;TZID=Asia/Shanghai:20240608T080000
DTEND;TZID=Asia/Shanghai:20240608T170000
DTSTAMP:20260426T012409
CREATED:20240626T130825Z
LAST-MODIFIED:20240626T130825Z
UID:2107-1717833600-1717866000@kesbangpol.balikpapan.go.id
SUMMARY:Kirab Gerakan Pembagian 10 Juta Bendera Merah Putih di Penajam Paser Utara
DESCRIPTION:
URL:https://kesbangpol.balikpapan.go.id/event/kirab-gerakan-pembagian-10-juta-bendera-merah-putih-di-penajam-paser-utara/
END:VEVENT
BEGIN:VEVENT
DTSTART;TZID=Asia/Shanghai:20240606T080000
DTEND;TZID=Asia/Shanghai:20240606T120000
DTSTAMP:20260426T012409
CREATED:20240626T131010Z
LAST-MODIFIED:20240626T131010Z
UID:2111-1717660800-1717675200@kesbangpol.balikpapan.go.id
SUMMARY:Penutupan Latihan Integrasi Taruna Wreda Nusantara (Latsitardanus) Provinsi Kalimantan Timur XLIV/2024
DESCRIPTION:
URL:https://kesbangpol.balikpapan.go.id/event/penutupan-latihan-integrasi-taruna-wreda-nusantara-latsitardanus-provinsi-kalimantan-timur-xliv-2024/
END:VEVENT
BEGIN:VEVENT
DTSTART;TZID=Asia/Shanghai:20240605T080000
DTEND;TZID=Asia/Shanghai:20240605T120000
DTSTAMP:20260426T012409
CREATED:20240626T130936Z
LAST-MODIFIED:20240626T130936Z
UID:2109-1717574400-1717588800@kesbangpol.balikpapan.go.id
SUMMARY:Sosialisasi Penyusunan Laporan Pertanggungjawaban Bantuan Keuangan Partai Politik dan Evaluasi Penggunaan Bantuan Keuangan Partai Politik
DESCRIPTION:
URL:https://kesbangpol.balikpapan.go.id/event/sosialisasi-penyusunan-laporan-pertanggungjawaban-bantuan-keuangan-partai-politik-dan-evaluasi-penggunaan-bantuan-keuangan-partai-politik/
END:VEVENT
BEGIN:VEVENT
DTSTART;TZID=Asia/Shanghai:20240522T080000
DTEND;TZID=Asia/Shanghai:20240522T110000
DTSTAMP:20260426T012409
CREATED:20240530T051044Z
LAST-MODIFIED:20240530T051044Z
UID:1919-1716364800-1716375600@kesbangpol.balikpapan.go.id
SUMMARY:Rapat kordinasi persiapan pelaksanaan upacara peringatan hari lahir Pancasila tahun 2024
DESCRIPTION:apat kordinasi persiapan pelaksanaan upacara peringatan hari lahir Pancasila tahun 2024 yang di hadiri oleh beberapa perwakilan dinas terkait di kantor Badan Kesatuan Bangsa Dan Politik Kota Balikpapan 22 mei 2024.
URL:https://kesbangpol.balikpapan.go.id/event/rapat-kordinasi-persiapan-pelaksanaan-upacara-peringatan-hari-lahir-pancasila-tahun-2024/
END:VEVENT
BEGIN:VEVENT
DTSTART;TZID=Asia/Shanghai:20240517T080000
DTEND;TZID=Asia/Shanghai:20240517T110000
DTSTAMP:20260426T012409
CREATED:20240531T083102Z
LAST-MODIFIED:20240531T083102Z
UID:2034-1715932800-1715943600@kesbangpol.balikpapan.go.id
SUMMARY:Penerimaan Putra dan Putri Calon Paskibraka dalam rangka Seleksi Anggota Paskibraka Tingkat Provinsi dan Nasional Tahun 2024
DESCRIPTION:Penerimaan Putra dan Putri Calon Paskibraka dalam rangka Seleksi Anggota Paskibraka Tingkat Provinsi dan Nasional Tahun 2024\nBadan Kesatuan Bangsa dan Politik Kota Balikpapan
URL:https://kesbangpol.balikpapan.go.id/event/penerimaan-putra-dan-putri-calon-paskibraka-dalam-rangka-seleksi-anggota-paskibraka-tingkat-provinsi-dan-nasional-tahun-2024/
END:VEVENT
BEGIN:VEVENT
DTSTART;TZID=Asia/Shanghai:20240505T080000
DTEND;TZID=Asia/Shanghai:20240505T123000
DTSTAMP:20260426T012409
CREATED:20240530T051209Z
LAST-MODIFIED:20240530T051238Z
UID:1921-1714896000-1714912200@kesbangpol.balikpapan.go.id
SUMMARY:Kirab Kota Peserta LATSITARDANUS XLVI/2024
DESCRIPTION:
URL:https://kesbangpol.balikpapan.go.id/event/kirab-kota-peserta-latsitardanus-xlvi-2024/
END:VEVENT
BEGIN:VEVENT
DTSTART;TZID=Asia/Shanghai:20240428T080000
DTEND;TZID=Asia/Shanghai:20240428T170000
DTSTAMP:20260426T012409
CREATED:20240530T051436Z
LAST-MODIFIED:20240530T051436Z
UID:1925-1714291200-1714323600@kesbangpol.balikpapan.go.id
SUMMARY:Pemantauan Terakhir Calon Paskibraka Kota Balikpapan Tahun 2024.
DESCRIPTION:Pemantauan Terakhir Calon Paskibraka Kota Balikpapan Tahun 2024. \nRangkaian seleksi dari Calon Paskibraka Kota Balikpapan tahun 2024 sudah memasuki tahap akhir yaitu Pemantauan Akhir\, rangkaian ini di selenggarakan pada tanggal 28 April 2024 di Lapangan Tennis Indoor Balikpapan. \nTetap semangat Calon Paskibraka Kota Balikpapan\, berikan yang terbaik untuk kota kita\, Kota Balikpapan.
URL:https://kesbangpol.balikpapan.go.id/event/pemantauan-terakhir-calon-paskibraka-kota-balikpapan-tahun-2024/
END:VEVENT
BEGIN:VEVENT
DTSTART;TZID=Asia/Shanghai:20240427T080000
DTEND;TZID=Asia/Shanghai:20240427T170000
DTSTAMP:20260426T012409
CREATED:20240530T051536Z
LAST-MODIFIED:20240530T051536Z
UID:1927-1714204800-1714237200@kesbangpol.balikpapan.go.id
SUMMARY:Tes Psikolog dan Interview Hari kedua Calon Paskibraka Kota Balikpapan Tahun 2024
DESCRIPTION:Rangakaian tes dari calon Paskibraka Kota Balikpapan tahun 2024 terus berlanjut\, untuk tes psikolog dan interview di adakan pada tanggal 27 April 2024 bertempatkan di Perpustakaan Kota Balikpapan. \nTetap semangat untuk seluruh Calon Paskibraka Kota Balikpapan!!
URL:https://kesbangpol.balikpapan.go.id/event/tes-psikolog-dan-interview-hari-kedua-calon-paskibraka-kota-balikpapan-tahun-2024/
END:VEVENT
BEGIN:VEVENT
DTSTART;TZID=Asia/Shanghai:20240427T080000
DTEND;TZID=Asia/Shanghai:20240427T123000
DTSTAMP:20260426T012409
CREATED:20240530T051319Z
LAST-MODIFIED:20240530T051319Z
UID:1923-1714204800-1714221000@kesbangpol.balikpapan.go.id
SUMMARY:Silahturahmi Pengurus FKDM Kota Balikpapan dan Rapat Koordinasi Kewaspadaan Dini Daerah
DESCRIPTION:Silahturahmi Pengurus FKDM Kota Balikpapan dan Rapat Koordinasi Kewaspadaan Dini Daerah\, 27 April 2024 di Hotel Grand Tiga Mustika Balikpapan. \nPeran FKDM sendiri sangat penting untuk melakukan deteksi dini dan cegah dini potensi ancaman\, tantangan\, hambatan dan gangguan (ATHG) keamanan yang berada di Kota Balikpapan.
URL:https://kesbangpol.balikpapan.go.id/event/silahturahmi-pengurus-fkdm-kota-balikpapan-dan-rapat-koordinasi-kewaspadaan-dini-daerah/
END:VEVENT
BEGIN:VEVENT
DTSTART;TZID=Asia/Shanghai:20240426T080000
DTEND;TZID=Asia/Shanghai:20240426T170000
DTSTAMP:20260426T012409
CREATED:20240530T060426Z
LAST-MODIFIED:20240530T060426Z
UID:1934-1714118400-1714150800@kesbangpol.balikpapan.go.id
SUMMARY:Tes Psikolog dan Interview Calon Paskibraka Kota Balikpapan Tahun 2024
DESCRIPTION:Tes Psikolog dan Interview Calon Paskibraka Kota Balikpapan Tahun 2024 \nRangakaian tes dari calon Paskibraka Kota Balikpapan tahun 2024 terus berlanjut\, untuk tes psikolog dan interview di adakan pada tanggal 26 April 2024 bertempatkan di Perpustakaan Kota Balikpapan. \nTetap semangat untuk seluruh Calon Paskibraka Kota Balikpapan!!
URL:https://kesbangpol.balikpapan.go.id/event/tes-psikolog-dan-interview-calon-paskibraka-kota-balikpapan-tahun-2024/
END:VEVENT
BEGIN:VEVENT
DTSTART;TZID=Asia/Shanghai:20240425T080000
DTEND;TZID=Asia/Shanghai:20240425T170000
DTSTAMP:20260426T012409
CREATED:20240530T060537Z
LAST-MODIFIED:20240530T060537Z
UID:1936-1714032000-1714064400@kesbangpol.balikpapan.go.id
SUMMARY:Rangakain seleksi Calon Paskibraka Kota Balikpapan tahun 2024
DESCRIPTION:Rangakain seleksi Calon Paskibraka Kota Balikpapan tahun 2024 memasuki ke bagian Tes Fisik dan PBB yang dilakukan oleh Tim Seleksi Paskibraka Kota Balikpapan. Aspek di dalam tes ini berpedoman pada regulasi serta ketentuan sesuai dengan Peraturan Kepala BPIP Republik Indonesia. \nSemangat para Calon Paskibraka Muda Kota Balikpapan!
URL:https://kesbangpol.balikpapan.go.id/event/rangakain-seleksi-calon-paskibraka-kota-balikpapan-tahun-2024/
END:VEVENT
BEGIN:VEVENT
DTSTART;TZID=Asia/Shanghai:20240425T080000
DTEND;TZID=Asia/Shanghai:20240425T100000
DTSTAMP:20260426T012409
CREATED:20240530T060628Z
LAST-MODIFIED:20240530T060628Z
UID:1938-1714032000-1714039200@kesbangpol.balikpapan.go.id
SUMMARY:Upacara untuk memperingati Hari Otonomi Daerah XXVII tahun 2024.
DESCRIPTION:Upacara untuk memperingati Hari Otonomi Daerah XXVII tahun 2024. \nOtonomi Daerah Berkelanjutan Menuju Ekonomi Dan Lingkungan Yang Sehat. \nKantor Pemerintahan Kota Balikpapan\, 25 April 2024.
URL:https://kesbangpol.balikpapan.go.id/event/upacara-untuk-memperingati-hari-otonomi-daerah-xxvii-tahun-2024/
END:VEVENT
BEGIN:VEVENT
DTSTART;TZID=Asia/Shanghai:20240423T080000
DTEND;TZID=Asia/Shanghai:20240423T170000
DTSTAMP:20260426T012409
CREATED:20240530T060748Z
LAST-MODIFIED:20240530T060748Z
UID:1940-1713859200-1713891600@kesbangpol.balikpapan.go.id
SUMMARY:Tes kesehatan dan Tes Parade Paskibraka Kota Balikpapan Tahun 2024
DESCRIPTION:Tes kesehatan dan Tes Parade yang dilakukan oleh Tim Seleksi Paskibraka Kota Balikpapan Tahun 2024 bertempatkan di Lanud Dhomber Kota Balikapapan\, Meliputi beberapa aspek yang berpedoman pada regulasi dan ketentuan sesuai Peraturan Kepala BPIP Republik Indonesia. \nSelamat berjuang para Paskibraka Muda Kota Balikpapan! \n#paskibraka2024\n#paskibrakabalikpapan\n#kesbangpol\n#kesbangpolbpn\n#bpip\n#ppi\n#indonesia
URL:https://kesbangpol.balikpapan.go.id/event/tes-kesehatan-dan-tes-parade-paskibraka-kota-balikpapan-tahun-2024/
END:VEVENT
BEGIN:VEVENT
DTSTART;TZID=Asia/Shanghai:20240215T080000
DTEND;TZID=Asia/Shanghai:20240215T170000
DTSTAMP:20260426T012409
CREATED:20240115T082330Z
LAST-MODIFIED:20240115T082330Z
UID:1704-1707984000-1708016400@kesbangpol.balikpapan.go.id
SUMMARY:Quick Qount Siperkasa
DESCRIPTION:
URL:https://kesbangpol.balikpapan.go.id/event/quick-qount-siperkasa/
END:VEVENT
BEGIN:VEVENT
DTSTART;TZID=Asia/Shanghai:20240214T080000
DTEND;TZID=Asia/Shanghai:20240214T213000
DTSTAMP:20260426T012409
CREATED:20240115T082301Z
LAST-MODIFIED:20240115T082301Z
UID:1702-1707897600-1707946200@kesbangpol.balikpapan.go.id
SUMMARY:Monitoring pelaksanaan pemilu
DESCRIPTION:
URL:https://kesbangpol.balikpapan.go.id/event/monitoring-pelaksanaan-pemilu/
END:VEVENT
BEGIN:VEVENT
DTSTART;TZID=Asia/Shanghai:20240210T080000
DTEND;TZID=Asia/Shanghai:20240213T170000
DTSTAMP:20260426T012409
CREATED:20240115T082227Z
LAST-MODIFIED:20240115T082227Z
UID:1700-1707552000-1707843600@kesbangpol.balikpapan.go.id
SUMMARY:Pemantauan TP3D untuk memasuki hari tenang Pemilu 2024
DESCRIPTION:
URL:https://kesbangpol.balikpapan.go.id/event/pemantauan-tp3d-untuk-memasuki-hari-tenang-pemilu-2024/
END:VEVENT
BEGIN:VEVENT
DTSTART;TZID=Asia/Shanghai:20240117T080000
DTEND;TZID=Asia/Shanghai:20240117T130000
DTSTAMP:20260426T012409
CREATED:20240115T082138Z
LAST-MODIFIED:20240115T082138Z
UID:1698-1705478400-1705496400@kesbangpol.balikpapan.go.id
SUMMARY:Bimtek Siperkasa
DESCRIPTION:
URL:https://kesbangpol.balikpapan.go.id/event/bimtek-siperkasa/
END:VEVENT
BEGIN:VEVENT
DTSTART;TZID=Asia/Shanghai:20240111T190000
DTEND;TZID=Asia/Shanghai:20240111T220000
DTSTAMP:20260426T012409
CREATED:20240115T061431Z
LAST-MODIFIED:20240115T061431Z
UID:1681-1704999600-1705010400@kesbangpol.balikpapan.go.id
SUMMARY:Pemilihan Duta Anti Narkoba
DESCRIPTION:
URL:https://kesbangpol.balikpapan.go.id/event/pemilihan-duta-anti-narkoba/
END:VEVENT
BEGIN:VEVENT
DTSTART;TZID=Asia/Shanghai:20240111T100000
DTEND;TZID=Asia/Shanghai:20240111T120000
DTSTAMP:20260426T012409
CREATED:20240115T075044Z
LAST-MODIFIED:20240115T075044Z
UID:1686-1704967200-1704974400@kesbangpol.balikpapan.go.id
SUMMARY:Penandatanganan Perjanjian Kerjasama bersama BPJS Ketenagakerjaan
DESCRIPTION:
URL:https://kesbangpol.balikpapan.go.id/event/penandatanganan-perjanjian-kerjasama-bersama-bpjs-ketenagakerjaan/
END:VEVENT
BEGIN:VEVENT
DTSTART;TZID=Asia/Shanghai:20231231T200000
DTEND;TZID=Asia/Shanghai:20231231T233000
DTSTAMP:20260426T012409
CREATED:20240117T102359Z
LAST-MODIFIED:20240117T102359Z
UID:1751-1704052800-1704065400@kesbangpol.balikpapan.go.id
SUMMARY:Pemantauan Situasi Keamanan dan Ketertiban Masyarakat pada Perayaan Pergantian Malam Tahun Baru 2024 di Kota Balikpapan
DESCRIPTION:Segenap Keluarga Besar Badan Kesbangpol Kota Balikpapan\, mengucapkan: \nSelamat Tahun Baru 2024\nSemangat baru\, Energi baru mewujudkan Kota Balikpapan yang nyaman dihuni sebagai Kota penyangga pembangunan IKN\, dalam bingkai madinatul iman. \nBalikpapan kubangun\, kujaga dan kubela. \nSALAM PANCASILA
URL:https://kesbangpol.balikpapan.go.id/event/pemantauan-situasi-keamanan-dan-ketertiban-masyarakat-pada-perayaan-pergantian-malam-tahun-baru-2024-di-kota-balikpapan/
END:VEVENT
BEGIN:VEVENT
DTSTART;TZID=Asia/Shanghai:20231227T080000
DTEND;TZID=Asia/Shanghai:20231227T170000
DTSTAMP:20260426T012409
CREATED:20240122T050825Z
LAST-MODIFIED:20240122T050825Z
UID:1833-1703664000-1703696400@kesbangpol.balikpapan.go.id
SUMMARY:Silaturahmi Forkopimda Bersama Unsur Masyarakat Kota Balikpapan
DESCRIPTION:Implementasi pelaksanaan pembauran kebangsaan dan kewaspadaan dini dalam rangka sinergitas dan penguatan komitmen bersama menjaga keamanan dan kondusifitas daerah pada pelaksanaan pemilu tahun 2024 di kota Balikpapan
URL:https://kesbangpol.balikpapan.go.id/event/silaturahmi-forkopimda-bersama-unsur-masyarakat-kota-balikpapan/
END:VEVENT
BEGIN:VEVENT
DTSTART;TZID=Asia/Shanghai:20231219T080000
DTEND;TZID=Asia/Shanghai:20231219T170000
DTSTAMP:20260426T012409
CREATED:20240122T051558Z
LAST-MODIFIED:20240122T051558Z
UID:1839-1702972800-1703005200@kesbangpol.balikpapan.go.id
SUMMARY:Peringatan Hari Bela Negara ke-75 Tahun 2023
DESCRIPTION:Peringatan Hari Bela Negara ke-75 tahun 2023 dengan tema “Kobarkan Bela Negara Untuk Indonesia Maju”.
URL:https://kesbangpol.balikpapan.go.id/event/peringatan-hari-bela-negara-ke-75-tahun-2023/
END:VEVENT
BEGIN:VEVENT
DTSTART;TZID=Asia/Shanghai:20231219T080000
DTEND;TZID=Asia/Shanghai:20231219T170000
DTSTAMP:20260426T012409
CREATED:20240122T051321Z
LAST-MODIFIED:20240122T051321Z
UID:1837-1702972800-1703005200@kesbangpol.balikpapan.go.id
SUMMARY:Penerimaan Kunjungan kerja Badan Kesbangpol dan FPK Kabupaten Barito Utara Provinsi Kalimantan Tengah
DESCRIPTION:Penerimaan Kunjungan Kerja Badan Kesbangpol dan FPK Kabupaten Barito Utara Provinsi Kalimantan Tengah bertempat Ruang Rapat Badan Kesbangpol Kota Balikpapan
URL:https://kesbangpol.balikpapan.go.id/event/penerimaan-kunjungan-kerja-badan-kesbangpol-dan-fpk-kabupaten-barito-utara-provinsi-kalimantan-tengah/
END:VEVENT
BEGIN:VEVENT
DTSTART;TZID=Asia/Shanghai:20231213T080000
DTEND;TZID=Asia/Shanghai:20231213T170000
DTSTAMP:20260426T012409
CREATED:20240122T052107Z
LAST-MODIFIED:20240122T052107Z
UID:1841-1702454400-1702486800@kesbangpol.balikpapan.go.id
SUMMARY:Kunjungan Kerja ke Balai Rehabilitasi BNN Tanah Merah Samarinda
DESCRIPTION:Kunjungan Kerja ke Balai Rehabilitasi BNN Tanah Merah Samarinda bersama Satgas Kelurahan Bersinar dan Finalis Duta Anti Narkoba 2024 Kota Balikpapan.
URL:https://kesbangpol.balikpapan.go.id/event/kunjungan-kerja-ke-balai-rehabilitasi-bnn-tanah-merah-samarinda/
END:VEVENT
BEGIN:VEVENT
DTSTART;TZID=Asia/Shanghai:20231204T080000
DTEND;TZID=Asia/Shanghai:20231204T170000
DTSTAMP:20260426T012409
CREATED:20240122T053443Z
LAST-MODIFIED:20240122T053443Z
UID:1844-1701676800-1701709200@kesbangpol.balikpapan.go.id
SUMMARY:Sosialisasi Wawasan Kebangsaan
DESCRIPTION:Sosialisasi wawasan kebangsaan dalam rangka penguatan keluarga berkarakter pancasila dalam kehidupan bermasyarakat\, berbangsa\, dan bernegara di kota balikpapan bertempat Dome Balikpapan
URL:https://kesbangpol.balikpapan.go.id/event/sosialisasi-wawasan-kebangsaan/
END:VEVENT
BEGIN:VEVENT
DTSTART;TZID=Asia/Shanghai:20231128T080000
DTEND;TZID=Asia/Shanghai:20231128T170000
DTSTAMP:20260426T012409
CREATED:20240122T054850Z
LAST-MODIFIED:20240122T054850Z
UID:1848-1701158400-1701190800@kesbangpol.balikpapan.go.id
SUMMARY:Koordinasi dan Konsolidasi Rencana Aksi Daerah tentang Pelaksanaan P4GN-PN Kota Balikpapan
DESCRIPTION:Koordinasi dan Konsolidasi Rencana Aksi Daerah tentang Pelaksanaan P4GN-PN Kota Balikpapan
URL:https://kesbangpol.balikpapan.go.id/event/koordinasi-dan-konsolidasi-rencana-aksi-daerah-tentang-pelaksanaan-p4gn-pn-kota-balikpapan/
END:VEVENT
BEGIN:VEVENT
DTSTART;TZID=Asia/Shanghai:20231128T080000
DTEND;TZID=Asia/Shanghai:20231128T170000
DTSTAMP:20260426T012409
CREATED:20240122T054500Z
LAST-MODIFIED:20240122T054500Z
UID:1846-1701158400-1701190800@kesbangpol.balikpapan.go.id
SUMMARY:Silaturahmi dan Audiensi pengurus Forum dan Finalis Duta Anti Narkoba Kita Balikpapan
DESCRIPTION:Silaturahmi dan Audiensi pengurus Forum dan Finalis Duta Anti Narkoba Kota Balikpapan bertempat di Ruang Rapat Badan Kesbangpol Kota Balikpapan
URL:https://kesbangpol.balikpapan.go.id/event/silaturahmi-dan-audiensi-pengurus-forum-dan-finalis-duta-anti-narkoba-kita-balikpapan/
END:VEVENT
BEGIN:VEVENT
DTSTART;TZID=Asia/Shanghai:20231119T080000
DTEND;TZID=Asia/Shanghai:20231119T170000
DTSTAMP:20260426T012409
CREATED:20240122T055012Z
LAST-MODIFIED:20240122T055012Z
UID:1850-1700380800-1700413200@kesbangpol.balikpapan.go.id
SUMMARY:Aksi Solidaritas Kemanusiaan untuk Palestina oleh Kelompok Musisi Jalanan Balikpapan
DESCRIPTION:Aksi solidaritas Kemanusiaan untuk Palestina oleh Kelompok Musisi Jalanan Balikpapan
URL:https://kesbangpol.balikpapan.go.id/event/aksi-solidaritas-kemanusiaan-untuk-palestina-oleh-kelompok-musisi-jalanan-balikpapan/
END:VEVENT
END:VCALENDAR